BEGIN:VCALENDAR
VERSION:2.0
PRODID:-//Real Estate Mart - ECPv6.15.20//NONSGML v1.0//EN
CALSCALE:GREGORIAN
METHOD:PUBLISH
X-WR-CALNAME:Real Estate Mart
X-ORIGINAL-URL:https://realestatemart.com.gh
X-WR-CALDESC:Events for Real Estate Mart
REFRESH-INTERVAL;VALUE=DURATION:PT1H
X-Robots-Tag:noindex
X-PUBLISHED-TTL:PT1H
BEGIN:VTIMEZONE
TZID:Africa/Accra
BEGIN:STANDARD
TZOFFSETFROM:+0000
TZOFFSETTO:+0000
TZNAME:GMT
DTSTART:20240101T000000
END:STANDARD
END:VTIMEZONE
BEGIN:VEVENT
DTSTART;TZID=Africa/Accra:20250725T090000
DTEND;TZID=Africa/Accra:20250726T170000
DTSTAMP:20260423T232850
CREATED:20250427T144248Z
LAST-MODIFIED:20250427T171215Z
UID:20856-1753434000-1753549200@realestatemart.com.gh
SUMMARY:Ghana Housing Expo 2025
DESCRIPTION:The Ghana Housing Expo 2025 to serve as a comprehensive platform for real estate developers\, real estate agencies\, property management companies\, and building construction companies to showcase their products and services to prospective property buyers\, homeowners\, investors\, and property investment enthusiasts. \nExplore a wide range of exhibitors\, attend informative seminars\, and network with industry professionals. From sustainable living to modern designs\, there’s something for everyone at the Ghana Housing Expo 2025. \nDon’t miss out on this exciting opportunity to discover your dream home or investment property. Mark your calendars and get ready for an event to remember! \nAccra: July 25-26\, 2025 and Kumasi: August 8-9\, 2025
URL:https://realestatemart.com.gh/event/ghana-housing-expo-2025/
LOCATION:Achimota Mall\, Achimota Mall\, Accra\, Accra\, Greater Accra\, 00233\, Ghana
CATEGORIES:Conference,Exhibition
ATTACH;FMTTYPE=image/webp:https://realestatemart.com.gh/wp-content/uploads/2025/04/jeda.webp
ORGANIZER;CN="Real Estate Mart":MAILTO:contact@realestatemart.com.gh
END:VEVENT
END:VCALENDAR