BEGIN:VCALENDAR
VERSION:2.0
PRODID:-//Real Estate Mart - ECPv6.15.20//NONSGML v1.0//EN
CALSCALE:GREGORIAN
METHOD:PUBLISH
X-ORIGINAL-URL:https://realestatemart.com.gh
X-WR-CALDESC:Events for Real Estate Mart
REFRESH-INTERVAL;VALUE=DURATION:PT1H
X-Robots-Tag:noindex
X-PUBLISHED-TTL:PT1H
BEGIN:VTIMEZONE
TZID:Africa/Accra
BEGIN:STANDARD
TZOFFSETFROM:+0000
TZOFFSETTO:+0000
TZNAME:GMT
DTSTART:20240101T000000
END:STANDARD
END:VTIMEZONE
BEGIN:VEVENT
DTSTART;TZID=Africa/Accra:20250825T090000
DTEND;TZID=Africa/Accra:20250826T130000
DTSTAMP:20260423T175450
CREATED:20250529T121444Z
LAST-MODIFIED:20250705T204424Z
UID:20894-1756112400-1756213200@realestatemart.com.gh
SUMMARY:Free: Real Estate Agents Master Class
DESCRIPTION:The real estate agency and brokerage sector is fast growing in Ghana\, particularly in the cities as a result of the inability of people unable to leave their busy scheduled in search for houses or rooms to rent or buy on one hand and landlords and properties owners unable to reach their targeted audience. \nThe industry has also created a lot of job opportunities to many people on full time or part-time basis. \nHowever\, this industry like many any other has its peculiar challenges including business circumventions\, unprofessionalism at the part of some agents\, lack of skills to market among others. \nAgainst this backdrop\, the AM Network and REALESTATEMART.com.gh is organizing a one-day masterclass for agents to help equip them as an additional tool for their already gained on the ground experience. \nThis world class training programme will bring experts in the field of legal\, marketing\, business management and property fraud investigations. \nTopics: \n\nHow build a successful real estate agency or brokerage\nSales and marketing strategies and tool for agents/brokers\nSocial media and online space for agents\n\nRate: FREE \nREGISTER: Follow this whatsapphttps://chat.whatsapp.com/DNV27lIPnDa0mhOxKzKRZA
URL:https://realestatemart.com.gh/event/training/
LOCATION:Sela Executive Lodge\, Sela Executive Lodge\, Accra\, Greater Accra\, 00233\, Ghana
CATEGORIES:Workshop
ATTACH;FMTTYPE=image/jpeg:https://realestatemart.com.gh/wp-content/uploads/2025/05/RealEstateAgent-class.jpg
ORGANIZER;CN="Real Estate Mart":MAILTO:contact@realestatemart.com.gh
END:VEVENT
BEGIN:VEVENT
DTSTART;TZID=Africa/Accra:20260304T080000
DTEND;TZID=Africa/Accra:20260305T170000
DTSTAMP:20260423T175451
CREATED:20260223T112347Z
LAST-MODIFIED:20260223T114409Z
UID:21422-1772611200-1772730000@realestatemart.com.gh
SUMMARY:National Homeownership Fair 2026
DESCRIPTION:RealEstateMart.com.gh is proud to announce its media partnership with the National Homeownership Fair 2026\, Ghana’s biggest housing and property conversation\, set to bring together key players across the real estate and housing value chain.\n\n\n\nWe’re inviting:\n Developers\n Financial Institutions\n Real Estate Professionals\n Industry Stakeholders\n\n\nThis is your chance to:\n Showcase your products & services\n Connect directly with serious homebuyers\n Build trust\, visibility & partnerships\n\n\n\n 4th–5th March 2026\n\n Ministry of Gender (Old)\, Accra\n\n 10AM – 6PM daily\n\n Call: 020 294 9875 to participate\nRegister via https://realestatemart.com.gh/nhf-fair\n\n\nSecure your spot and position your brand where the right audience is.\n\n\nLimited slots available. Apply now.
URL:https://realestatemart.com.gh/event/national-homeownership-fair-2026/
LOCATION:Ministry of Gender (Old)\, Accra\, Ministries\, Accra\, Greater Accra\, Ghana
CATEGORIES:Conference,Exhibition
ATTACH;FMTTYPE=image/jpeg:https://realestatemart.com.gh/wp-content/uploads/2026/02/NHF-Fair-2026.jpg
ORGANIZER;CN="National Homeownership Fund":MAILTO:info@nhf.gov.gh
END:VEVENT
END:VCALENDAR